BEGIN:VCALENDAR
VERSION:2.0
PRODID:-//Isabelle Pasquier-Eichenberger - ECPv6.15.15//NONSGML v1.0//EN
CALSCALE:GREGORIAN
METHOD:PUBLISH
X-WR-CALNAME:Isabelle Pasquier-Eichenberger
X-ORIGINAL-URL:https://isabelle-pasquier.ch
X-WR-CALDESC:Évènements pour Isabelle Pasquier-Eichenberger
REFRESH-INTERVAL;VALUE=DURATION:PT1H
X-Robots-Tag:noindex
X-PUBLISHED-TTL:PT1H
BEGIN:VTIMEZONE
TZID:Europe/Zurich
BEGIN:DAYLIGHT
TZOFFSETFROM:+0100
TZOFFSETTO:+0200
TZNAME:CEST
DTSTART:20180325T010000
END:DAYLIGHT
BEGIN:STANDARD
TZOFFSETFROM:+0200
TZOFFSETTO:+0100
TZNAME:CET
DTSTART:20181028T010000
END:STANDARD
BEGIN:DAYLIGHT
TZOFFSETFROM:+0100
TZOFFSETTO:+0200
TZNAME:CEST
DTSTART:20190331T010000
END:DAYLIGHT
BEGIN:STANDARD
TZOFFSETFROM:+0200
TZOFFSETTO:+0100
TZNAME:CET
DTSTART:20191027T010000
END:STANDARD
BEGIN:DAYLIGHT
TZOFFSETFROM:+0100
TZOFFSETTO:+0200
TZNAME:CEST
DTSTART:20200329T010000
END:DAYLIGHT
BEGIN:STANDARD
TZOFFSETFROM:+0200
TZOFFSETTO:+0100
TZNAME:CET
DTSTART:20201025T010000
END:STANDARD
END:VTIMEZONE
BEGIN:VEVENT
DTSTART;VALUE=DATE:20190928
DTEND;VALUE=DATE:20190929
DTSTAMP:20260421T100403
CREATED:20190528T143210Z
LAST-MODIFIED:20190630T185225Z
UID:615-1569628800-1569715199@isabelle-pasquier.ch
SUMMARY:Manifestation pour le climat à Berne\, centralisée et d'ampleur nationale
DESCRIPTION:
URL:https://isabelle-pasquier.ch/event/manif-climat
LOCATION:Berne
END:VEVENT
END:VCALENDAR